BEGIN:VCALENDAR
VERSION:2.0
PRODID:-//Play Naturally OT - ECPv6.15.20//NONSGML v1.0//EN
CALSCALE:GREGORIAN
METHOD:PUBLISH
X-WR-CALNAME:Play Naturally OT
X-ORIGINAL-URL:https://playnaturallyot.com.au
X-WR-CALDESC:Events for Play Naturally OT
REFRESH-INTERVAL;VALUE=DURATION:PT1H
X-Robots-Tag:noindex
X-PUBLISHED-TTL:PT1H
BEGIN:VTIMEZONE
TZID:UTC
BEGIN:STANDARD
TZOFFSETFROM:+0000
TZOFFSETTO:+0000
TZNAME:UTC
DTSTART:20250101T000000
END:STANDARD
END:VTIMEZONE
BEGIN:VEVENT
DTSTART;TZID=UTC:20260505T094500
DTEND;TZID=UTC:20260623T111500
DTSTAMP:20260421T202335
CREATED:20260327T063700Z
LAST-MODIFIED:20260413T032055Z
UID:10000091-1777974300-1782213300@playnaturallyot.com.au
SUMMARY:Gumnut Explorers TUESDAYS 9.45am Term 2 2026
DESCRIPTION:0- 6 year olds! \nTerm 2! \nWe can’t wait to play naturally with you in the beautiful Belair National Park \n8 Week program + 9th week included as a make-up if you miss any during the term \n90 minute sessions \nNational Park entry included in ticket (valued at $13.90) \n  \n  \nCome and Join our wonderful well-established community and be supported to connect with nature and experience the health and wellbeing benefits for yourself and your child! \n 
URL:https://playnaturallyot.com.au/event/wild-sprouts-tuesdays-9-45am-term-2-2026/
LOCATION:Belair National Park\, Upper Sturt Road\, Belair\, SA\, 5052\, Australia
ATTACH;FMTTYPE=image/jpeg:https://playnaturallyot.com.au/wp-content/uploads/2024/11/shutterstock_46134457-scaled.jpg
ORGANIZER;CN="Play Naturally OT - Prue Spry":MAILTO:prue@playnaturallyot.com.au
END:VEVENT
BEGIN:VEVENT
DTSTART;TZID=UTC:20260505T114500
DTEND;TZID=UTC:20260623T131500
DTSTAMP:20260421T202335
CREATED:20250630T121805Z
LAST-MODIFIED:20260327T070831Z
UID:10000068-1777981500-1782220500@playnaturallyot.com.au
SUMMARY:REGISTRATION OF INTEREST - TUESDAYS - 11.45am - Nature Explorers - Mixed ages/ School aged families
DESCRIPTION:For Children 4-10 years old! \nCome and Join our wonderful well-established community and be supported to connect with nature and experience the health and wellbeing benefits for yourself and your child! \nNATURE EXPLORERS is perfect for Kindergarten and Primary School aged children – great for HOME SCHOOLING FAMILIES! \nTuesdays 11.45am – 1.15pm \nTHIS IS A REGISTRATION OF INTEREST as it is a new class and minimum numbers are required for the session to begin!! \nTell your friends\, sign up together!
URL:https://playnaturallyot.com.au/event/registration-of-interest-nature-explorers/
LOCATION:Belair National Park\, Upper Sturt Road\, Belair\, SA\, 5052\, Australia
ATTACH;FMTTYPE=image/jpeg:https://playnaturallyot.com.au/wp-content/uploads/2023/05/shutterstock_2185901935-scaled.jpg
ORGANIZER;CN="Play Naturally OT - Prue Spry":MAILTO:prue@playnaturallyot.com.au
END:VEVENT
BEGIN:VEVENT
DTSTART;TZID=UTC:20260506T091500
DTEND;TZID=UTC:20260624T104500
DTSTAMP:20260421T202336
CREATED:20260327T064556Z
LAST-MODIFIED:20260413T031452Z
UID:10000092-1778058900-1782297900@playnaturallyot.com.au
SUMMARY:Wild Sprouts WEDNESDAYS 9.15am Term 2 2026
DESCRIPTION:1-5 year olds! \nTerm 2! \nWe can’t wait to play naturally with you in the beautiful Belair National Park \n8 Week program + 9th week included as a make-up if you miss any during the term \n90 minute sessions \nNational Park entry included in ticket (valued at $13.90) \n  \n  \nCome and Join our wonderful well-established community and be supported to connect with nature and experience the health and wellbeing benefits for yourself and your child! \n 
URL:https://playnaturallyot.com.au/event/wild-sprouts-wednesdays-9-15am-term-2-2026/
LOCATION:Belair National Park\, Upper Sturt Road\, Belair\, SA\, 5052\, Australia
ATTACH;FMTTYPE=image/jpeg:https://playnaturallyot.com.au/wp-content/uploads/2025/12/shutterstock_1936979710-scaled.jpg
ORGANIZER;CN="Play Naturally OT - Prue Spry":MAILTO:prue@playnaturallyot.com.au
END:VEVENT
BEGIN:VEVENT
DTSTART;TZID=UTC:20260506T111500
DTEND;TZID=UTC:20260624T004500
DTSTAMP:20260421T202336
CREATED:20260327T070020Z
LAST-MODIFIED:20260413T031324Z
UID:10000093-1778066100-1782261900@playnaturallyot.com.au
SUMMARY:Gumnut Babies WEDNESDAYS 11.15am Term 2 2026
DESCRIPTION:0 – 18 month year olds! \nTerm 2! \nWe can’t wait to play naturally with you in the beautiful Belair National Park \n8 Week program + 9th week included as a make-up if you miss any during the term \n90 minute sessions \nNational Park entry included in ticket (valued at $13.90) \n  \n  \nCome and Join our wonderful well-established community and be supported to connect with nature and experience the health and wellbeing benefits for yourself and your child! \n 
URL:https://playnaturallyot.com.au/event/gumnut-babies-wednesdays-11-15am-term-2-2026/
LOCATION:Belair National Park\, Upper Sturt Road\, Belair\, SA\, 5052\, Australia
ATTACH;FMTTYPE=image/jpeg:https://playnaturallyot.com.au/wp-content/uploads/2023/05/shutterstock_1677996958-scaled.jpg
ORGANIZER;CN="Play Naturally OT - Prue Spry":MAILTO:prue@playnaturallyot.com.au
END:VEVENT
BEGIN:VEVENT
DTSTART;TZID=UTC:20260512T123000
DTEND;TZID=UTC:20260624T140000
DTSTAMP:20260421T202336
CREATED:20250912T041048Z
LAST-MODIFIED:20260206T101616Z
UID:10000071-1778589000-1782309600@playnaturallyot.com.au
SUMMARY:REGISTRATION OF INTEREST - Pre-natal and expectant parents' program
DESCRIPTION:Come and Join our wonderful well-established community and be supported to connect with nature and experience the health and wellbeing benefits for yourself and the arrival of your beautiful child! \nThere is a lot of evidence showing that connection with nature during this ‘pre-natal’ phase positively influences the health and development of the unborn child\, as well as the health and wellbeing of the mother and father. \nTHIS IS A REGISTRATION OF INTEREST as it is a new class and minimum numbers are required for the session to begin!! \nTell your friends\, sign up together! A fabulous activity for your parental leave!
URL:https://playnaturallyot.com.au/event/registration-of-interest-pre-natal-and-expectant-parents-program/
LOCATION:Belair National Park\, Upper Sturt Road\, Belair\, SA\, 5052\, Australia
ATTACH;FMTTYPE=image/jpeg:https://playnaturallyot.com.au/wp-content/uploads/2023/05/shutterstock_283656011-1-scaled.jpg
ORGANIZER;CN="Play Naturally OT - Prue Spry":MAILTO:prue@playnaturallyot.com.au
END:VEVENT
END:VCALENDAR